BEGIN:VCALENDAR
VERSION:2.0
PRODID:spatie/icalendar-generator
DESCRIPTION:Events from Topps Trade Center
X-WR-CALDESC:Events from Topps Trade Center
REFRESH-INTERVAL;VALUE=DURATION:PT1440M
X-PUBLISHED-TTL:PT1440M
BEGIN:VTIMEZONE
TZID:Etc/GMT+0
BEGIN:STANDARD
DTSTART:20180731T000000Z
TZOFFSETFROM:+0000
TZOFFSETTO:+0000
END:STANDARD
END:VTIMEZONE
BEGIN:VTIMEZONE
TZID:UTC
BEGIN:STANDARD
DTSTART:20250727T150439Z
TZOFFSETFROM:+0000
TZOFFSETTO:+0000
END:STANDARD
END:VTIMEZONE
BEGIN:VEVENT
UID:3103-284
DTSTAMP:20260423T150439Z
SUMMARY:War of the Spark Prerelease
LOCATION:
ORGANIZER;CN=admin:MAILTO:996cb025@opayq.com
DTSTART;TZID=Etc/GMT+0:20190427T000000
DTEND;TZID=Etc/GMT+0:20190427T050000
X-ALT-DESC;FMTTYPE=TEXT/HTML:War of the Spark prerelease 12 am Saturday mor
 ning $28.99 entry per person 2 Headed Giant sealed deck Swiss rounds 4 Rou
 nds total &amp;nbsp\;
CATEGORIES:Magic
URL;VALUE=URI:https://toppstradecenter.com/mc-events/war-of-the-spark-prere
 lease/
METHOD:PUBLISH
END:VEVENT
END:VCALENDAR