BEGIN:VCALENDAR
VERSION:2.0
PRODID:spatie/icalendar-generator
DESCRIPTION:Events from Topps Trade Center
X-WR-CALDESC:Events from Topps Trade Center
REFRESH-INTERVAL;VALUE=DURATION:PT1440M
X-PUBLISHED-TTL:PT1440M
BEGIN:VTIMEZONE
TZID:Etc/GMT+0
BEGIN:STANDARD
DTSTART:20180801T120000Z
TZOFFSETFROM:+0000
TZOFFSETTO:+0000
END:STANDARD
END:VTIMEZONE
BEGIN:VTIMEZONE
TZID:UTC
BEGIN:STANDARD
DTSTART:20250727T095551Z
TZOFFSETFROM:+0000
TZOFFSETTO:+0000
END:STANDARD
END:VTIMEZONE
BEGIN:VEVENT
UID:3106-287
DTSTAMP:20260423T095551Z
SUMMARY:War of the Spark Prerelease
LOCATION:
ORGANIZER;CN=admin:MAILTO:996cb025@opayq.com
DTSTART;TZID=Etc/GMT+0:20190428T120000
DTEND;TZID=Etc/GMT+0:20190428T170000
X-ALT-DESC;FMTTYPE=TEXT/HTML:War of the Spark prerelease Sealed deck $28.99
  entry Swiss rounds
CATEGORIES:Magic
URL;VALUE=URI:https://toppstradecenter.com/mc-events/war-of-the-spark-prere
 lease-4/
METHOD:PUBLISH
END:VEVENT
END:VCALENDAR