BEGIN:VCALENDAR
VERSION:2.0
PRODID:spatie/icalendar-generator
DESCRIPTION:Events from Topps Trade Center
X-WR-CALDESC:Events from Topps Trade Center
REFRESH-INTERVAL;VALUE=DURATION:PT1440M
X-PUBLISHED-TTL:PT1440M
BEGIN:VTIMEZONE
TZID:Etc/GMT+0
BEGIN:STANDARD
DTSTART:20150224T140000Z
TZOFFSETFROM:+0000
TZOFFSETTO:+0000
END:STANDARD
END:VTIMEZONE
BEGIN:VTIMEZONE
TZID:UTC
BEGIN:STANDARD
DTSTART:20250729T124236Z
TZOFFSETFROM:+0000
TZOFFSETTO:+0000
END:STANDARD
END:VTIMEZONE
BEGIN:VEVENT
UID:2589-13
DTSTAMP:20260425T124236Z
SUMMARY:Modern Tournament [MtG]
LOCATION:
ORGANIZER;CN=admin:MAILTO:996cb025@opayq.com
DTSTART;TZID=Etc/GMT+0:20151121T140000
DTEND;TZID=Etc/GMT+0:20151121T190000
X-ALT-DESC;FMTTYPE=TEXT/HTML:• $10 Entry per player. • 1st Place winner
  will receive a sealed booster box of Battle for Zendikar! • Top players
  will receive hot Modern-legal promos! For more information on the Modern 
 format\, as well as the banned list\, check out http://magic.wizards.com/e
 n/gameinfo/gameplay/formats/modern [MtG] [Modern Format]
CATEGORIES:Magic
URL;VALUE=URI:https://toppstradecenter.com/mc-events/modern-tournament-mtg-
 2/
METHOD:PUBLISH
END:VEVENT
END:VCALENDAR