BEGIN:VCALENDAR
VERSION:2.0
PRODID:spatie/icalendar-generator
DESCRIPTION:Events from Topps Trade Center
X-WR-CALDESC:Events from Topps Trade Center
REFRESH-INTERVAL;VALUE=DURATION:PT1440M
X-PUBLISHED-TTL:PT1440M
BEGIN:VTIMEZONE
TZID:Etc/GMT+0
BEGIN:STANDARD
DTSTART:20150210T235900Z
TZOFFSETFROM:+0000
TZOFFSETTO:+0000
END:STANDARD
END:VTIMEZONE
BEGIN:VTIMEZONE
TZID:UTC
BEGIN:STANDARD
DTSTART:20250729T232035Z
TZOFFSETFROM:+0000
TZOFFSETTO:+0000
END:STANDARD
END:VTIMEZONE
BEGIN:VEVENT
UID:2736-14
DTSTAMP:20260425T232035Z
SUMMARY:Commander 2015 Launch Event - Win a Playmat!
LOCATION:
ORGANIZER;CN=admin:MAILTO:996cb025@opayq.com
DTSTART;TZID=Etc/GMT+0:20151107T235900
DTEND;TZID=Etc/GMT+0:20151107T235900
X-ALT-DESC;FMTTYPE=TEXT/HTML:Come to Topps Trade Center to celebrate the re
 lease of the new Magic: The Gathering Commander decks! We'll be seating pl
 ayers in pods of four\, and the winner of each pod will recieve their choi
 ce of one of the many art print playmats we have available. Entry is $40 p
 er player. Players will recieve their&amp;hellip\;
CATEGORIES:Magic
URL;VALUE=URI:https://toppstradecenter.com/mc-events/commander-2015-launch-
 event-win-a-playmat/
METHOD:PUBLISH
END:VEVENT
END:VCALENDAR